BEGIN:VCALENDAR
VERSION:2.0
PRODID:-//demosphere.net//NONSGML kigkonsult.se iCalcreator 2.22.1//
METHOD:REQUEST
X-WR-TIMEZONE:Europe/Paris
BEGIN:VEVENT
UID:https://ariege.demosphere.net/rv/13335
DTSTAMP:20210723T170000Z
DESCRIPTION:plus d'infos sur : https://ariege.demosphere.net/rv/13335
DTSTART:20210723T170000Z
DTEND:20210723T180000Z
LOCATION:MontbrunBocage\, \nSalle des Fêtes \n31 Montbrun Bocage
SUMMARY:Concert ENFIN CA BALANCE COOL CASH FLEX 3 EME CLASS !!
URL:https://ariege.demosphere.net/rv/13335
END:VEVENT
END:VCALENDAR
