BEGIN:VCALENDAR
VERSION:2.0
PRODID:-//demosphere.net//NONSGML kigkonsult.se iCalcreator 2.22.1//
METHOD:REQUEST
X-WR-TIMEZONE:Europe/Paris
BEGIN:VEVENT
UID:https://ariege.demosphere.net/rv/19095
DTSTAMP:20260501T180000Z
DESCRIPTION:plus d'infos sur : https://ariege.demosphere.net/rv/19095
DTSTART:20260501T180000Z
DTEND:20260501T190000Z
LOCATION:Betchat\, \nsalle des fêtes \nBetchat 09160
SUMMARY:Claude Landry en Concert. GwoKa Musiques traditionnelles de la Guad
 eloupe
URL:https://ariege.demosphere.net/rv/19095
END:VEVENT
END:VCALENDAR
