BEGIN:VCALENDAR
VERSION:2.0
PRODID:-//demosphere.net//NONSGML kigkonsult.se iCalcreator 2.22.1//
METHOD:REQUEST
X-WR-TIMEZONE:Europe/Paris
BEGIN:VEVENT
UID:https://ariege.demosphere.net/rv/19096
DTSTAMP:20260606T093000Z
DESCRIPTION:plus d'infos sur : https://ariege.demosphere.net/rv/19096
DTSTART:20260606T093000Z
DTEND:20260606T103000Z
LOCATION:Betchat\, \nsalle des fêtes \nBetchat 09160
SUMMARY:5eme Festival de Musiques de la Caraïbe en Ariège
URL:https://ariege.demosphere.net/rv/19096
END:VEVENT
END:VCALENDAR
