BEGIN:VCALENDAR
VERSION:2.0
PRODID:-//demosphere.net//NONSGML kigkonsult.se iCalcreator 2.22.1//
METHOD:REQUEST
X-WR-TIMEZONE:Europe/Paris
BEGIN:VEVENT
UID:https://ariege.demosphere.net/rv/19097
DTSTAMP:20260509T150000Z
DESCRIPTION:plus d'infos sur : https://ariege.demosphere.net/rv/19097
DTSTART:20260509T150000Z
DTEND:20260509T160000Z
LOCATION:09240\, \nAncienne école d'Unjat \n09240 - La Bastide-de-Sérou
SUMMARY:Concert Darlina Saenz + DJ Set El Chente @ La Guingette de Printemp
 s
URL:https://ariege.demosphere.net/rv/19097
END:VEVENT
END:VCALENDAR
