BEGIN:VCALENDAR
VERSION:2.0
PRODID:-//demosphere.net//NONSGML kigkonsult.se iCalcreator 2.22.1//
METHOD:REQUEST
X-WR-TIMEZONE:Europe/Paris
BEGIN:VEVENT
UID:https://ariege.demosphere.net/rv/19098
DTSTAMP:20260503T070000Z
DESCRIPTION:plus d'infos sur : https://ariege.demosphere.net/rv/19098
DTSTART:20260503T070000Z
DTEND:20260503T080000Z
LOCATION:Pailhès\, \nPlace de l'Eglise Pailhès
SUMMARY:FOIRE DE PRINTEMPS de Pailhès de 9h à18h
URL:https://ariege.demosphere.net/rv/19098
END:VEVENT
END:VCALENDAR
