BEGIN:VCALENDAR
VERSION:2.0
PRODID:-//demosphere.net//NONSGML kigkonsult.se iCalcreator 2.22.1//
METHOD:REQUEST
X-WR-TIMEZONE:Europe/Paris
BEGIN:VEVENT
UID:https://ariege.demosphere.net/rv/19099
DTSTAMP:20260509T164500Z
DESCRIPTION:plus d'infos sur : https://ariege.demosphere.net/rv/19099
DTSTART:20260509T164500Z
DTEND:20260509T174500Z
LOCATION:MontbrunBocage\, \nSalle des Fêtes \n31 Montbrun Bocage
SUMMARY:Dîner concert de la Cantariza
URL:https://ariege.demosphere.net/rv/19099
END:VEVENT
END:VCALENDAR
