BEGIN:VCALENDAR
VERSION:2.0
PRODID:-//demosphere.net//NONSGML kigkonsult.se iCalcreator 2.22.1//
METHOD:REQUEST
X-WR-TIMEZONE:Europe/Paris
BEGIN:VEVENT
UID:https://ariege.demosphere.net/rv/19101
DTSTAMP:20260503T140000Z
DESCRIPTION:plus d'infos sur : https://ariege.demosphere.net/rv/19101
DTSTART:20260503T140000Z
DTEND:20260503T150000Z
LOCATION:PAMIERS\, \nSALLE Aglaé Moyne 5 rue de Loumet \n09100 PAMIERS
SUMMARY:récital de piano Ferenc VIZI
URL:https://ariege.demosphere.net/rv/19101
END:VEVENT
END:VCALENDAR
