BEGIN:VCALENDAR
VERSION:2.0
PRODID:-//demosphere.net//NONSGML kigkonsult.se iCalcreator 2.22.1//
METHOD:REQUEST
X-WR-TIMEZONE:Europe/Paris
BEGIN:VEVENT
UID:https://ariege.demosphere.net/rv/19102
DTSTAMP:20260523T183000Z
DESCRIPTION:plus d'infos sur : https://ariege.demosphere.net/rv/19102
DTSTART:20260523T183000Z
DTEND:20260523T193000Z
LOCATION:Aleu\, \nParadis Païen Castet d'Aleu 09320
SUMMARY:Guilhem Valayé
URL:https://ariege.demosphere.net/rv/19102
END:VEVENT
END:VCALENDAR
