BEGIN:VCALENDAR
VERSION:2.0
PRODID:-//demosphere.net//NONSGML kigkonsult.se iCalcreator 2.22.1//
METHOD:REQUEST
X-WR-TIMEZONE:Europe/Paris
BEGIN:VEVENT
UID:https://ariege.demosphere.net/rv/19103
DTSTAMP:20260430T180000Z
DESCRIPTION:plus d'infos sur : https://ariege.demosphere.net/rv/19103
DTSTART:20260430T180000Z
DTEND:20260430T190000Z
LOCATION:Aleu\, \nParadis Païen Castet d'Aleu 09320
SUMMARY:Bourdon Total + La Marouette
URL:https://ariege.demosphere.net/rv/19103
END:VEVENT
END:VCALENDAR
