BEGIN:VCALENDAR
VERSION:2.0
PRODID:-//demosphere.net//NONSGML kigkonsult.se iCalcreator 2.22.1//
METHOD:REQUEST
X-WR-TIMEZONE:Europe/Paris
BEGIN:VEVENT
UID:https://ariege.demosphere.net/rv/19104
DTSTAMP:20260513T080000Z
DESCRIPTION:plus d'infos sur : https://ariege.demosphere.net/rv/19104
DTSTART:20260513T080000Z
DTEND:20260513T090000Z
LOCATION:Aleu\, \nParadis Païen Castet d'Aleu 09320
SUMMARY:ATELIER FABRICATION KAYAMB
URL:https://ariege.demosphere.net/rv/19104
END:VEVENT
END:VCALENDAR
