BEGIN:VCALENDAR
VERSION:2.0
PRODID:-//demosphere.net//NONSGML kigkonsult.se iCalcreator 2.22.1//
METHOD:REQUEST
X-WR-TIMEZONE:Europe/Paris
BEGIN:VEVENT
UID:https://ariege.demosphere.net/rv/19105
DTSTAMP:20260514T183000Z
DESCRIPTION:plus d'infos sur : https://ariege.demosphere.net/rv/19105
DTSTART:20260514T183000Z
DTEND:20260514T193000Z
LOCATION:Aleu\, \nParadis Païen Castet d'Aleu 09320
SUMMARY:ATELIER MALOYA + CONCERT + DJ
URL:https://ariege.demosphere.net/rv/19105
END:VEVENT
END:VCALENDAR
