BEGIN:VCALENDAR
VERSION:2.0
PRODID:-//demosphere.net//NONSGML kigkonsult.se iCalcreator 2.22.1//
METHOD:REQUEST
X-WR-TIMEZONE:Europe/Paris
BEGIN:VEVENT
UID:https://ariege.demosphere.net/rv/19106
DTSTAMP:20260517T130000Z
DESCRIPTION:plus d'infos sur : https://ariege.demosphere.net/rv/19106
DTSTART:20260517T130000Z
DTEND:20260517T140000Z
LOCATION:Aleu\, \nParadis Païen Castet d'Aleu 09320
SUMMARY:MARIONETTE (La Main à la Pâte) + CONCERT + FLASH TATOO !
URL:https://ariege.demosphere.net/rv/19106
END:VEVENT
END:VCALENDAR
