BEGIN:VCALENDAR
VERSION:2.0
PRODID:-//demosphere.net//NONSGML kigkonsult.se iCalcreator 2.22.1//
METHOD:REQUEST
X-WR-TIMEZONE:Europe/Paris
BEGIN:VEVENT
UID:https://ariege.demosphere.net/rv/19109
DTSTAMP:20260724T160000Z
DESCRIPTION:plus d'infos sur : https://ariege.demosphere.net/rv/19109
DTSTART:20260724T160000Z
DTEND:20260724T170000Z
LOCATION:Aleu\, \nParadis Païen Castet d'Aleu 09320
SUMMARY:FESTIVAL Le P'tit PARADIS : Melissmell + Les Tit'Nassels
URL:https://ariege.demosphere.net/rv/19109
END:VEVENT
END:VCALENDAR
