BEGIN:VCALENDAR
VERSION:2.0
PRODID:-//demosphere.net//NONSGML kigkonsult.se iCalcreator 2.22.1//
METHOD:REQUEST
X-WR-TIMEZONE:Europe/Paris
BEGIN:VEVENT
UID:https://ariege.demosphere.net/rv/19110
DTSTAMP:20260725T080000Z
DESCRIPTION:plus d'infos sur : https://ariege.demosphere.net/rv/19110
DTSTART:20260725T080000Z
DTEND:20260725T090000Z
LOCATION:Aleu\, \nParadis Païen Castet d'Aleu 09320
SUMMARY:FESTIVAL : Le P'tit PARADIS : Marché + Concert + DJ + Animations vi
 llage
URL:https://ariege.demosphere.net/rv/19110
END:VEVENT
END:VCALENDAR
