BEGIN:VCALENDAR
VERSION:2.0
PRODID:-//demosphere.net//NONSGML kigkonsult.se iCalcreator 2.22.1//
METHOD:REQUEST
X-WR-TIMEZONE:Europe/Paris
BEGIN:VEVENT
UID:https://ariege.demosphere.net/rv/19114
DTSTAMP:20260502T083000Z
DESCRIPTION:plus d'infos sur : https://ariege.demosphere.net/rv/19114
DTSTART:20260502T083000Z
DTEND:20260502T093000Z
LOCATION:Bordes/Arize\, \nLes Bordes sur Arize
SUMMARY:Journée des luttes
URL:https://ariege.demosphere.net/rv/19114
END:VEVENT
END:VCALENDAR
