BEGIN:VCALENDAR
VERSION:2.0
PRODID:-//demosphere.net//NONSGML kigkonsult.se iCalcreator 2.22.1//
METHOD:REQUEST
X-WR-TIMEZONE:Europe/Paris
BEGIN:VEVENT
UID:https://ariege.demosphere.net/rv/19116
DTSTAMP:20260502T140000Z
DESCRIPTION:plus d'infos sur : https://ariege.demosphere.net/rv/19116
DTSTART:20260502T140000Z
DTEND:20260502T150000Z
LOCATION:Les Bordes sur Arize\, \nRue Marveille 09350 Les Bordes sur Arize
SUMMARY:LE PÉDÉ
URL:https://ariege.demosphere.net/rv/19116
END:VEVENT
END:VCALENDAR
