BEGIN:VCALENDAR
VERSION:2.0
PRODID:-//demosphere.net//NONSGML kigkonsult.se iCalcreator 2.22.1//
METHOD:REQUEST
X-WR-TIMEZONE:Europe/Paris
BEGIN:VEVENT
UID:https://ariege.demosphere.net/rv/19117
DTSTAMP:20260502T170000Z
DESCRIPTION:plus d'infos sur : https://ariege.demosphere.net/rv/19117
DTSTART:20260502T170000Z
DTEND:20260502T180000Z
LOCATION:Les Bordes sur Arize\, \nPlace de la Mairie \nBordes sur Arize
SUMMARY:LA CANTARIZA
URL:https://ariege.demosphere.net/rv/19117
END:VEVENT
END:VCALENDAR
