BEGIN:VCALENDAR
VERSION:2.0
PRODID:-//demosphere.net//NONSGML kigkonsult.se iCalcreator 2.22.1//
METHOD:REQUEST
X-WR-TIMEZONE:Europe/Paris
BEGIN:VEVENT
UID:https://ariege.demosphere.net/rv/19118
DTSTAMP:20260522T160000Z
DESCRIPTION:plus d'infos sur : https://ariege.demosphere.net/rv/19118
DTSTART:20260522T160000Z
DTEND:20260522T170000Z
LOCATION:Castillon-en-Couserans\, \nmédiathèque de Castillon-en-Couserans\,
  route des Vignes
SUMMARY:Quiz littéraire
URL:https://ariege.demosphere.net/rv/19118
END:VEVENT
END:VCALENDAR
