BEGIN:VCALENDAR
VERSION:2.0
PRODID:-//demosphere.net//NONSGML kigkonsult.se iCalcreator 2.22.1//
METHOD:REQUEST
X-WR-TIMEZONE:Europe/Paris
BEGIN:VEVENT
UID:https://ariege.demosphere.net/rv/19119
DTSTAMP:20260430T170000Z
DESCRIPTION:plus d'infos sur : https://ariege.demosphere.net/rv/19119
DTSTART:20260430T170000Z
DTEND:20260430T180000Z
LOCATION:Foix\, \nLibrairie Le Cachalot \n9 rue Lazema \n09000 Foix
SUMMARY:Rencontre littéraire - Lucie Heder et Zoé Hernandez
URL:https://ariege.demosphere.net/rv/19119
END:VEVENT
END:VCALENDAR
