BEGIN:VCALENDAR
VERSION:2.0
PRODID:-//demosphere.net//NONSGML kigkonsult.se iCalcreator 2.22.1//
METHOD:REQUEST
X-WR-TIMEZONE:Europe/Paris
BEGIN:VEVENT
UID:https://ariege.demosphere.net/rv/19120
DTSTAMP:20260424T163000Z
DESCRIPTION:plus d'infos sur : https://ariege.demosphere.net/rv/19120
DTSTART:20260424T163000Z
DTEND:20260424T173000Z
LOCATION:09290 Le Mas d'Azil\, \nBar du camping le petit pyreneen \nLe Mas 
 d'Azil
SUMMARY:Soirée jeux
URL:https://ariege.demosphere.net/rv/19120
END:VEVENT
END:VCALENDAR
