BEGIN:VCALENDAR
VERSION:2.0
PRODID:-//demosphere.net//NONSGML kigkonsult.se iCalcreator 2.22.1//
METHOD:REQUEST
X-WR-TIMEZONE:Europe/Paris
BEGIN:VEVENT
UID:https://ariege.demosphere.net/rv/19121
DTSTAMP:20260605T120000Z
DESCRIPTION:plus d'infos sur : https://ariege.demosphere.net/rv/19121
DTSTART:20260605T120000Z
DTEND:20260605T130000Z
LOCATION:Carla Bayle\, \nespace 'Libre comme l'Art' \nCarla Bayle
SUMMARY:Atelier Butoh
URL:https://ariege.demosphere.net/rv/19121
END:VEVENT
END:VCALENDAR
