BEGIN:VCALENDAR
VERSION:2.0
PRODID:-//demosphere.net//NONSGML kigkonsult.se iCalcreator 2.22.1//
METHOD:REQUEST
X-WR-TIMEZONE:Europe/Paris
BEGIN:VEVENT
UID:https://ariege.demosphere.net/rv/19122
DTSTAMP:20260511T160000Z
DESCRIPTION:plus d'infos sur : https://ariege.demosphere.net/rv/19122
DTSTART:20260511T160000Z
DTEND:20260511T170000Z
GEO:+42.960672;+1.612098
LOCATION:Foix\, \nMaison des Associations \nAvenue de l'Ariège \n09000 FOIX
SUMMARY:Soirée Réno par l'association Ecorce
URL:https://ariege.demosphere.net/rv/19122
END:VEVENT
END:VCALENDAR
