BEGIN:VCALENDAR
VERSION:2.0
PRODID:-//demosphere.net//NONSGML kigkonsult.se iCalcreator 2.22.1//
METHOD:REQUEST
X-WR-TIMEZONE:Europe/Paris
BEGIN:VEVENT
UID:https://ariege.demosphere.net/rv/19123
DTSTAMP:20260514T180000Z
DESCRIPTION:plus d'infos sur : https://ariege.demosphere.net/rv/19123
DTSTART:20260514T180000Z
DTEND:20260514T190000Z
LOCATION:Le Mas d'Azil\, \nAssociation Capuche-Beret bar cantine librairie 
 épicerie 09290 le Mas d'Azil
SUMMARY:Concert éclair avec ' BLACK DROSERA ' Hardcore rapide power violenc
 e
URL:https://ariege.demosphere.net/rv/19123
END:VEVENT
END:VCALENDAR
