BEGIN:VCALENDAR
VERSION:2.0
PRODID:-//demosphere.net//NONSGML kigkonsult.se iCalcreator 2.22.1//
METHOD:REQUEST
X-WR-TIMEZONE:Europe/Paris
BEGIN:VEVENT
UID:https://ariege.demosphere.net/rv/7594
DTSTAMP:20160401T183000Z
DESCRIPTION:plus d'infos sur : https://ariege.demosphere.net/rv/7594
DTSTART:20160401T183000Z
DTEND:20160401T193000Z
LOCATION:MontbBocage\, \nSalle des Fêtes \n31 Montbrun Bocage
SUMMARY:Concert Hobo Jungle - Rock'n roll\, blues\, soul
URL:https://ariege.demosphere.net/rv/7594
END:VEVENT
END:VCALENDAR
